BEGIN:VCALENDAR
METHOD:PUBLISH
VERSION:2.0
CALSCALE:GREGORIAN
PRODID:-//NONSGML WPForms//NONSGML Sugar Calendar Feeds v3.11.0//EN
X-WR-CALNAME:Annual Fall Chicken Pie & BBQ Supper
X-WR-CALDESC:Brick Reformed Church
X-WR-TIMEZONE:America/New_York
BEGIN:VTIMEZONE
TZID:America/New_York
BEGIN:STANDARD
TZOFFSETFROM:-0400
TZOFFSETTO:-0500
DTSTART:20241103T060000
TZNAME:EST
END:STANDARD
END:VTIMEZONE
BEGIN:VTIMEZONE
TZID:America/New_York
BEGIN:STANDARD
TZOFFSETFROM:-0400
TZOFFSETTO:-0500
DTSTART:20241103T060000
TZNAME:EST
END:STANDARD
END:VTIMEZONE
BEGIN:VEVENT
SUMMARY:Annual Fall Chicken Pie & BBQ Supper
DESCRIPTION:Annual Brick Church Fall Chicken Pie and BBQ Supper\nOur 70t
 h year Anniversary: The Brick Church Fall Supper is always the 2nd Satur
 day in November. In 2024\, it will be held on Saturday\, November 9th\, 
 11am - 7pm. You’re invited to eat-in or take-out.
URL;VALUE=URI:https://brickchurchnc.org/events/annual-fall-chicken-pie-b
 bq-supper-2/
UID:urn:uuid:0f0dee19-cdf1-4165-ac5a-bd9e8cf2873b
STATUS:CONFIRMED
ORGANIZER:
DTSTAMP:20260421T112707Z
DTSTART;TZID=America/New_York:20241109T110000
DTEND;TZID=America/New_York:20241109T190000
END:VEVENT
END:VCALENDAR